BEGIN:VCALENDAR
VERSION:2.0
PRODID:-//Justice &amp; Mercy International - ECPv6.15.17.1//NONSGML v1.0//EN
CALSCALE:GREGORIAN
METHOD:PUBLISH
X-ORIGINAL-URL:https://justiceandmercy.org
X-WR-CALDESC:Events for Justice &amp; Mercy International
REFRESH-INTERVAL;VALUE=DURATION:PT1H
X-Robots-Tag:noindex
X-PUBLISHED-TTL:PT1H
BEGIN:VTIMEZONE
TZID:UTC
BEGIN:STANDARD
TZOFFSETFROM:+0000
TZOFFSETTO:+0000
TZNAME:UTC
DTSTART:20250101T000000
END:STANDARD
END:VTIMEZONE
BEGIN:VEVENT
DTSTART;VALUE=DATE:20260718
DTEND;VALUE=DATE:20260727
DTSTAMP:20260423T093346
CREATED:20240103T174612Z
LAST-MODIFIED:20260105T161209Z
UID:10000060-1784332800-1785110399@justiceandmercy.org
SUMMARY:PCC Moldova Trip
DESCRIPTION:The goal of JMI’s ministry in Moldova is to seek out the country’s most vulnerable children\, offer them hope\, and provide them with the personalized resources\, opportunities\, and Christ-honoring values they need to succeed in life. JMI mission teams help identify the most vulnerable through camp programs\, which include Bible study\, music\, games\, crafts\, and life skills. Through this\, we hope to show children the incredible love of Jesus Christ. Join us! \nLEARN MORE\n\n  \n  \n  \n 
URL:https://justiceandmercy.org/event/bayou-city-moldova-trip/
CATEGORIES:Moldova,Trips
ATTACH;FMTTYPE=image/jpeg:https://justiceandmercy.org/wp-content/uploads/2024/01/430A7549b-1-scaled-e1767629512987.jpg
END:VEVENT
END:VCALENDAR